BEGIN:VCALENDAR
X-WR-TIMEZONE:Europe/Berlin
X-WR-CALNAME:rbb-Kalender
VERSION:2.0
METHOD:PUBLISH
CALSCALE:GREGORIAN
PRODID:rbb-CMS DAY
BEGIN:VEVENT
CLASS:PUBLIC
URL:http://www.rbb-online.de/content/rbb/rbb/pl/kowalskiundschmidt/archiv/kowlaksi___schmidt.html
DTEND:20130505T183000
DTSTART:20130505T183000
UID:/content/rbb/rbb/pl/kowalskiundschmidt/archiv/kowlaksi___schmidt
DTSTAMP:20140408T002813
DESCRIPTION:+++ Niemiecka kuchnia +++ Bez mięsa! +++ Emigracja w Berlinie +++ Berlin "Pieprzone miasto" +++\n
SUMMARY:Kowlaksi & Schmidt vom 05.05.2013
END:VEVENT
END:VCALENDAR
