BEGIN:VCALENDAR
X-WR-TIMEZONE:Europe/Berlin
X-WR-CALNAME:rbb-Kalender
VERSION:2.0
METHOD:PUBLISH
CALSCALE:GREGORIAN
PRODID:rbb-CMS DAY
BEGIN:VEVENT
CLASS:PUBLIC
URL:http://www.rbb-online.de/content/rbb/rbb/politik/beitrag/2013/08/brandenburg-trend-2013.html
DTEND:20130828T190000
DTSTART:20130828T190000
UID:/content/rbb/rbb/politik/beitrag/2013/08/brandenburg-trend-2013
DTSTAMP:20140407T225423
DESCRIPTION:Die Brandenburger halten Dietmar Woidke für einen guten Nachfolger von Matthias Platzeck. Sie geben dem neuen Ministerpräsidenten einen genauso großen Vertrauensvorschuss wie einst Platzeck, als er 2002 das Amt von Manfred Stolpe übernahm. Das ergab der aktuelle BrandenburgTREND von Infratest dimap. \n\n\n
SUMMARY:Brandenburger stehen hinter Woidke
END:VEVENT
END:VCALENDAR
