BEGIN:VCALENDAR
X-WR-TIMEZONE:Europe/Berlin
X-WR-CALNAME:rbb-Kalender
VERSION:2.0
METHOD:PUBLISH
CALSCALE:GREGORIAN
PRODID:rbb-CMS DAY
BEGIN:VEVENT
CLASS:PUBLIC
URL:http://www.rbb-online.de/content/rbb/rbb/preussischblau/lynar/familiezulynar.html
DTEND:20131226T184000
DTSTART:20131226T184000
UID:/content/rbb/rbb/preussischblau/lynar/familiezulynar
DTSTAMP:20140405T195442
DESCRIPTION:Menschen mit Migrationshintergrund sind keinesfalls ein modernes Phänomen - auch in Preußen hat es sie gegeben, und zwar zahlreich. Besonders nach dem 30-jährigen Krieg wurde über Jahrzehnte hinweg eine gezielte Einwanderungspolitik betrieben, um das stark geschwächte Preußen wirtschaftlich wieder auf die Beine zu bringen.\n
SUMMARY:Familie zu Lynar
END:VEVENT
END:VCALENDAR
