BEGIN:VCALENDAR
X-WR-TIMEZONE:Europe/Berlin
X-WR-CALNAME:rbb-Kalender
VERSION:2.0
METHOD:PUBLISH
CALSCALE:GREGORIAN
PRODID:rbb-CMS DAY
BEGIN:VEVENT
RRULE:FREQ=MONTHLY;INTERVAL=1;BYDAY=SU;BYSETPOS=1;WKST=SU
CLASS:PUBLIC
URL:http://www.rbb-online.de/content/rbb/rbb/quergelesen/naechste_sendung/quergelesen-am-02-03-2014.html
DTEND:20140302T131500
DTSTART:20140302T131500
UID:/content/rbb/rbb/quergelesen/naechste_sendung/quergelesen-am-02-03-2014
DTSTAMP:20140407T124218
DESCRIPTION:In dieser Sendung geht es um Menschen, Tiere, Natur und Sprache und dabei immer um Ungewöhnliches.\n\n\n
SUMMARY:quergelesen am 02.03.2014
END:VEVENT
END:VCALENDAR
