BEGIN:VCALENDAR
X-WR-TIMEZONE:Europe/Berlin
X-WR-CALNAME:rbb-Kalender
VERSION:2.0
METHOD:PUBLISH
CALSCALE:GREGORIAN
PRODID:rbb-CMS DAY
BEGIN:VEVENT
RRULE:FREQ=MONTHLY;INTERVAL=1;BYDAY=SU;BYSETPOS=1;WKST=SU
CLASS:PUBLIC
URL:http://www.rbb-online.de/content/rbb/rbb/quergelesen/naechste_sendung/quergelesen-am-06-04-2014.html
DTEND:20140406T131500
DTSTART:20140406T131500
UID:/content/rbb/rbb/quergelesen/naechste_sendung/quergelesen-am-06-04-2014
DTSTAMP:20140404T214209
DESCRIPTION:„quergelesen“ wird 10 – wenn das kein Grund zum Feiern ist. Am 4. April 2004 wurde die erste Sendung im KiKA ausgestrahlt und inzwischen haben wir in ungefähr 120 Sendungen zwischen  600 und 700 Bücher vorgestellt und noch viel mehr gelesen. Wie auch die nächsten.\n
SUMMARY:quergelesen am 06.04.2014
END:VEVENT
END:VCALENDAR
