BEGIN:VCALENDAR
X-WR-TIMEZONE:Europe/Berlin
X-WR-CALNAME:rbb-Kalender
VERSION:2.0
METHOD:PUBLISH
CALSCALE:GREGORIAN
PRODID:rbb-CMS DAY
BEGIN:VEVENT
CLASS:PUBLIC
URL:http://www.rbb-online.de/content/rbb/rbb/quergelesen/querarchiv/quergelesen_am_02_06_2013.html
DTEND:20130602T131000
DTSTART:20130602T131000
UID:/content/rbb/rbb/quergelesen/querarchiv/quergelesen_am_02_06_2013
DTSTAMP:20140405T191027
DESCRIPTION:
SUMMARY:quergelesen am 02.06.2013
END:VEVENT
END:VCALENDAR
