BEGIN:VCALENDAR
X-WR-TIMEZONE:Europe/Berlin
X-WR-CALNAME:rbb-Kalender
VERSION:2.0
METHOD:PUBLISH
CALSCALE:GREGORIAN
PRODID:rbb-CMS DAY
BEGIN:VEVENT
CLASS:PUBLIC
URL:http://www.rbb-online.de/content/rbb/rbb/rbb_Science_Slam/themen/and_the_winner_is.html
DTEND:20130531T232500
DTSTART:20130531T220000
UID:/content/rbb/rbb/rbb_Science_Slam/themen/and_the_winner_is
DTSTAMP:20140405T183656
DESCRIPTION:"Wissenschaft bühnenreif" - der rbb Science Slam vom 31. Mai 2013. In nur fünf Minuten komplizierte Forschung einfach und unterhaltsam erklärt, das war der rbb Science Slam, live aus dem Fritz Club im Postbahnhof.\n
SUMMARY:Wissenschaft bühnenreif - Der rbb Science Slam 
END:VEVENT
END:VCALENDAR
