BEGIN:VCALENDAR
X-WR-TIMEZONE:Europe/Berlin
X-WR-CALNAME:rbb-Kalender
VERSION:2.0
METHOD:PUBLISH
CALSCALE:GREGORIAN
PRODID:rbb-CMS DAY
BEGIN:VEVENT
CLASS:PUBLIC
URL:http://www.rbb-online.de/content/rbb/rbb/rbbaktuell/archiv/20140328_2145/nachrichten.html
DTEND:20140328T220000
DTSTART:20140328T214500
UID:/content/rbb/rbb/rbbaktuell/archiv/20140328_2145/nachrichten
DTSTAMP:20140404T231834
DESCRIPTION:+++ Bundespräsident Gauck hat den chinesischen Staatspräsident Xi Jin-Ping am Mittag  im Schloss Bellvue begrüßt +++ BER-Architekt Hans-Joachim Paap weist Vorwürfe einer mangelhaften Planung und Bauüberwachung erneut zurück +++\n\n\n
SUMMARY:Nachrichten
END:VEVENT
END:VCALENDAR
