BEGIN:VCALENDAR
X-WR-TIMEZONE:Europe/Berlin
X-WR-CALNAME:rbb-Kalender
VERSION:2.0
METHOD:PUBLISH
CALSCALE:GREGORIAN
PRODID:rbb-CMS DAY
BEGIN:VEVENT
CLASS:PUBLIC
URL:http://www.rbb-online.de/content/rbb/rbb/rbbaktuell/archiv/20140329_2145.html
DTEND:20140329T222000
DTSTART:20140329T215000
UID:/content/rbb/rbb/rbbaktuell/archiv/20140329_2145
DTSTAMP:20140404T232700
DESCRIPTION:+++ BER-Inbetriebnahme könnte sich weiter verzögern +++ Berliner Grüne unterstützen Volksentscheid +++ Mindestlohn contra Spargelanbau +++ Planetarium schließt seine Pforten +++ "WineVibes" im Postbahnhof +++ Twitter bringt Regierungen ins Schwitzen +++ Sportnachrichten +++ Das Wetter +++\n\n\n
SUMMARY:rbb AKTUELL vom 29.03.2014
END:VEVENT
END:VCALENDAR
