BEGIN:VCALENDAR
X-WR-TIMEZONE:Europe/Berlin
X-WR-CALNAME:rbb-Kalender
VERSION:2.0
METHOD:PUBLISH
CALSCALE:GREGORIAN
PRODID:rbb-CMS DAY
BEGIN:VEVENT
CLASS:PUBLIC
URL:http://www.rbb-online.de/content/rbb/rbb/rbbaktuell/archiv/20140329_2145/berliner-gruene-unterstuetzen-volksentscheid.html
DTEND:20140329T215000
DTSTART:20140329T215000
UID:/content/rbb/rbb/rbbaktuell/archiv/20140329_2145/berliner-gruene-unterstuetzen-volksentscheid
DTSTAMP:20140404T231527
DESCRIPTION:Die Berliner Grünen unterstützen beim Tempelhof-Volksentscheid am 25. Mai den Initiativen-Entwurf gegen jegliche Bebauung des ehemaligen Flughafen-Geländes. Ein entsprechender Antrag wurde auf einem Landesparteitag am Samstag mit großer Mehrheit gebilligt. rbb Aktuell mit weiteren Informationen.\n\n\n
SUMMARY:Berliner Grüne unterstützen Volksentscheid
END:VEVENT
END:VCALENDAR
