BEGIN:VCALENDAR
X-WR-TIMEZONE:Europe/Berlin
X-WR-CALNAME:rbb-Kalender
VERSION:2.0
METHOD:PUBLISH
CALSCALE:GREGORIAN
PRODID:rbb-CMS DAY
BEGIN:VEVENT
CLASS:PUBLIC
URL:http://www.rbb-online.de/content/rbb/rbb/rbbaktuell/archiv/20140330_2145.html
DTEND:20140330T220000
DTSTART:20140330T214500
UID:/content/rbb/rbb/rbbaktuell/archiv/20140330_2145
DTSTAMP:20140404T191510
DESCRIPTION:+++ Kenianer Leonard Komon gewinnt Halbmarathon +++ Bernauer wählen Bürgermeister ab +++ Jüdisches Filmfest wird eröffnet +++ Das Wetter +++\n\n\n
SUMMARY:rbb AKTUELL vom 30.03.2014
END:VEVENT
END:VCALENDAR
