BEGIN:VCALENDAR
X-WR-TIMEZONE:Europe/Berlin
X-WR-CALNAME:rbb-Kalender
VERSION:2.0
METHOD:PUBLISH
CALSCALE:GREGORIAN
PRODID:rbb-CMS DAY
BEGIN:VEVENT
CLASS:PUBLIC
URL:http://www.rbb-online.de/content/rbb/rbb/rbbaktuell/archiv/20140330_2145/juedisches-filmfest-eroeffnet.html
DTEND:20140330T220000
DTSTART:20140330T214500
UID:/content/rbb/rbb/rbbaktuell/archiv/20140330_2145/juedisches-filmfest-eroeffnet
DTSTAMP:20140404T231711
DESCRIPTION:In Potsdam wird am Abend das 20. Jüdische Filmfestival Berlin-Potsdam im Hans-Otto-Theater eröffnet. Bis zum 13. April werden 27 Filme und 6 Kurzfilme hauptsächlich jüdischer Filmemacher gezeigt. Die Abendschau meldet sich live von der Eröffnung.\n\n\n
SUMMARY:Jüdisches Filmfest wird eröffnet
END:VEVENT
END:VCALENDAR
