BEGIN:VCALENDAR
X-WR-TIMEZONE:Europe/Berlin
X-WR-CALNAME:rbb-Kalender
VERSION:2.0
METHOD:PUBLISH
CALSCALE:GREGORIAN
PRODID:rbb-CMS DAY
BEGIN:VEVENT
CLASS:PUBLIC
URL:http://www.rbb-online.de/content/rbb/rbb/rbbaktuell/archiv/20140330_2145/nachrichten.html
DTEND:20140330T220000
DTSTART:20140330T214500
UID:/content/rbb/rbb/rbbaktuell/archiv/20140330_2145/nachrichten
DTSTAMP:20140404T231538
DESCRIPTION:+++ Mehrere hundert Demonstranten haben vor der russischen Botschaft Unter den Linden Solidarität mit Russland in der Krim-Krise gefordert +++ Hunderte Fans ließen sich am Brandenburger Tor mit dem FIFA-WM-Pokal fotografieren +++\n\n\n
SUMMARY:Nachrichten
END:VEVENT
END:VCALENDAR
