BEGIN:VCALENDAR
X-WR-TIMEZONE:Europe/Berlin
X-WR-CALNAME:rbb-Kalender
VERSION:2.0
METHOD:PUBLISH
CALSCALE:GREGORIAN
PRODID:rbb-CMS DAY
BEGIN:VEVENT
CLASS:PUBLIC
URL:http://www.rbb-online.de/content/rbb/rbb/rbbaktuell/archiv/20140331_2145/bnd.html
DTEND:20140331T221500
DTSTART:20140331T214500
UID:/content/rbb/rbb/rbbaktuell/archiv/20140331_2145/bnd
DTSTAMP:20140404T232238
DESCRIPTION:Am Montag haben die ersten Mitarbeiter des Bundesnachrichtendiensts ihre Arbeit in der neuen Zentrale in Berlin aufgenommen. Den 174 Beschäftigten sollen in den kommenden Jahren weitere 4000 Kollegen aus Pullach und BND-Nebenstellen folgen.\n
SUMMARY:Erste BND-Mitarbeiter beziehen neue Zentrale 
END:VEVENT
END:VCALENDAR
