BEGIN:VCALENDAR
X-WR-TIMEZONE:Europe/Berlin
X-WR-CALNAME:rbb-Kalender
VERSION:2.0
METHOD:PUBLISH
CALSCALE:GREGORIAN
PRODID:rbb-CMS DAY
BEGIN:VEVENT
CLASS:PUBLIC
URL:http://www.rbb-online.de/content/rbb/rbb/rbbaktuell/archiv/20140401_2145/prozessauftakt-Kindsmord.html
DTEND:20140401T221500
DTSTART:20140401T214500
UID:/content/rbb/rbb/rbbaktuell/archiv/20140401_2145/prozessauftakt-Kindsmord
DTSTAMP:20140404T231730
DESCRIPTION:Aus Verzweiflung hat eine junge Mutter aus Golzow (Märkisch-Oderland) offenbar ihr Neugeborenes getötet. Mit einem Messer soll sie im vergangenen Oktober auf den Jungen eingestochen haben. Am ersten Prozesstag vor dem Landgericht Frankfurt (Oder) legte die Frau ein Geständnis ab.\n
SUMMARY:Prozess um totes Baby
END:VEVENT
END:VCALENDAR
