BEGIN:VCALENDAR
X-WR-TIMEZONE:Europe/Berlin
X-WR-CALNAME:rbb-Kalender
VERSION:2.0
METHOD:PUBLISH
CALSCALE:GREGORIAN
PRODID:rbb-CMS DAY
BEGIN:VEVENT
CLASS:PUBLIC
URL:http://www.rbb-online.de/content/rbb/rbb/rbbaktuell/archiv/20140401_2145/tarifeinigung-oeffentlicher-dienst.html
DTEND:20140401T221500
DTSTART:20140401T214500
UID:/content/rbb/rbb/rbbaktuell/archiv/20140401_2145/tarifeinigung-oeffentlicher-dienst
DTSTAMP:20140404T231649
DESCRIPTION:Arbeitgeber und Gewerkschaften des öffentlichen Dienstes haben sich in Potsdam auf mehr Geld für die 2,1 Millionen Beschäftigten geeinigt. In diesem Jahr steigen die Gehälter um drei Prozent, mindestens jedoch um 90 Euro und ab März 2015 um weitere 2,4 Prozent.\n
SUMMARY:Tarifeinigung in Potsdam
END:VEVENT
END:VCALENDAR
