BEGIN:VCALENDAR
X-WR-TIMEZONE:Europe/Berlin
X-WR-CALNAME:rbb-Kalender
VERSION:2.0
METHOD:PUBLISH
CALSCALE:GREGORIAN
PRODID:rbb-CMS DAY
BEGIN:VEVENT
CLASS:PUBLIC
URL:http://www.rbb-online.de/content/rbb/rbb/rbbaktuell/archiv/20140402_2145/Einigung_auf_abschlussbericht_enquete_kommission.html
DTEND:20140402T221500
DTSTART:20140402T214500
UID:/content/rbb/rbb/rbbaktuell/archiv/20140402_2145/Einigung_auf_abschlussbericht_enquete_kommission
DTSTAMP:20140404T232451
DESCRIPTION:Über alle Parteigrenzen hinweg hat sich die Enquete-Kommission zur Aufarbeitung der SED Diktatur auf einen Abschlussbericht geeinigt. Vier Jahre hat ihre Arbeit gedauert und das Ergebnis hält viele Hausaufgaben für die Brandenburger Landesregierung bereit.\n\n\n
SUMMARY:Enquete-Kommission: Einigung auf Abschlussbericht  
END:VEVENT
END:VCALENDAR
