BEGIN:VCALENDAR
X-WR-TIMEZONE:Europe/Berlin
X-WR-CALNAME:rbb-Kalender
VERSION:2.0
METHOD:PUBLISH
CALSCALE:GREGORIAN
PRODID:rbb-CMS DAY
BEGIN:VEVENT
CLASS:PUBLIC
URL:http://www.rbb-online.de/content/rbb/rbb/rbbaktuell/archiv/20140402_2145/Klarheit_fuer_flughafeneroeffnung.html
DTEND:20140402T221500
DTSTART:20140402T214500
UID:/content/rbb/rbb/rbbaktuell/archiv/20140402_2145/Klarheit_fuer_flughafeneroeffnung
DTSTAMP:20140404T231637
DESCRIPTION:Ende dieses Jahres soll endlich feststehen, wann der neue Hauptstadtflughafen in Betrieb gehen kann. Das kündigte Flughafenchef Hartmut Mehdorn am Mittwoch im Bauausschuss des Abgeordnetenhauses an. Er bestätigte Annahmen, dass sich die Kosten für den Schallschutz der Anwohner auf 730 Millionen Euro vervielfachen werden.\n
SUMMARY:Klarheit für Flughafen-Eröffnung bis Ende 2014
END:VEVENT
END:VCALENDAR
