BEGIN:VCALENDAR
X-WR-TIMEZONE:Europe/Berlin
X-WR-CALNAME:rbb-Kalender
VERSION:2.0
METHOD:PUBLISH
CALSCALE:GREGORIAN
PRODID:rbb-CMS DAY
BEGIN:VEVENT
CLASS:PUBLIC
URL:http://www.rbb-online.de/content/rbb/rbb/rbbaktuell/archiv/20140403_2145/news.html
DTEND:20140403T221500
DTSTART:20140403T214500
UID:/content/rbb/rbb/rbbaktuell/archiv/20140403_2145/news
DTSTAMP:20140404T231726
DESCRIPTION:Für eine Ausweitung des Nachtflugverbots am BER gibt es im Bundestag keine Mehrhei +++ Auch am zweiten Tag des Pilotenstreiks bei Lufthansa und Germanwings sind wieder zahlreiche Flüge in Tegel  gestrichen worden +++\n\n\n
SUMMARY:Nachrichten I
END:VEVENT
END:VCALENDAR
