BEGIN:VCALENDAR
X-WR-TIMEZONE:Europe/Berlin
X-WR-CALNAME:rbb-Kalender
VERSION:2.0
METHOD:PUBLISH
CALSCALE:GREGORIAN
PRODID:rbb-CMS DAY
BEGIN:VEVENT
CLASS:PUBLIC
URL:http://www.rbb-online.de/content/rbb/rbb/rbbaktuell/archiv/20140403_2145/news2.html
DTEND:20140403T221500
DTSTART:20140403T214500
UID:/content/rbb/rbb/rbbaktuell/archiv/20140403_2145/news2
DTSTAMP:20140404T232643
DESCRIPTION:Die Kindertagesstätten in Brandenburg erhalten in diesem Jahr neun Millionen Euro mehr Geld vom Land +++ Immer mehr Menschen in Berlin und Brandenburg pendeln zu ihrem Arbeitsplatz +++ Der U-Bahnhof Hermannstraße soll spätestens im September wieder in Betrieb gehen +++ Der Grenzmarkt in Slubice bekommt Konkurrenz +++\n
SUMMARY:Nachrichten II
END:VEVENT
END:VCALENDAR
