BEGIN:VCALENDAR
X-WR-TIMEZONE:Europe/Berlin
X-WR-CALNAME:rbb-Kalender
VERSION:2.0
METHOD:PUBLISH
CALSCALE:GREGORIAN
PRODID:rbb-CMS DAY
BEGIN:VEVENT
CLASS:PUBLIC
URL:http://www.rbb-online.de/content/rbb/rbb/rbbaktuell/archiv/20140403_2145/unfall.html
DTEND:20140403T221500
DTSTART:20140403T214500
UID:/content/rbb/rbb/rbbaktuell/archiv/20140403_2145/unfall
DTSTAMP:20140404T232248
DESCRIPTION:Ein schwerer Unfall im Landkreis Oder-Spree hat am Morgen den Verkehr auf der Autobahn 12 für Stunden lahm gelegt. Bei dem Unfall starben drei Menschen, als ihr Auto am Ende eines Staus auf einen  LKW auffuhr. \n\n\n
SUMMARY:Schwerer Unfall auf der A12
END:VEVENT
END:VCALENDAR
