BEGIN:VCALENDAR
X-WR-TIMEZONE:Europe/Berlin
X-WR-CALNAME:rbb-Kalender
VERSION:2.0
METHOD:PUBLISH
CALSCALE:GREGORIAN
PRODID:rbb-CMS DAY
BEGIN:VEVENT
CLASS:PUBLIC
URL:http://www.rbb-online.de/content/rbb/rbb/rbbaktuell/archiv/20140404_2145/bettensteuer.html
DTEND:20140404T220000
DTSTART:20140404T214500
UID:/content/rbb/rbb/rbbaktuell/archiv/20140404_2145/bettensteuer
DTSTAMP:20140407T144207
DESCRIPTION:Schon bald sollen Touristen in Potsdam fünf Prozent auf die bisherigen Übernachtungspreise drauf zahlen. Die Einnahmen aus dieser neuen Bettensteuer sollen dem Schulausbau zugute kommen - das haben die Potsdamer Stadtverordneten beschlossen.\n
SUMMARY:Bettensteuer in Potsdam
END:VEVENT
END:VCALENDAR
