BEGIN:VCALENDAR
X-WR-TIMEZONE:Europe/Berlin
X-WR-CALNAME:rbb-Kalender
VERSION:2.0
METHOD:PUBLISH
CALSCALE:GREGORIAN
PRODID:rbb-CMS DAY
BEGIN:VEVENT
CLASS:PUBLIC
URL:http://www.rbb-online.de/content/rbb/rbb/rbbaktuell/archiv/20140404_2145/nazi.html
DTEND:20140404T220000
DTSTART:20140404T214500
UID:/content/rbb/rbb/rbbaktuell/archiv/20140404_2145/nazi
DTSTAMP:20140407T144219
DESCRIPTION:Vor dem Landgericht stand am Freitag ein 40-jähriger Mann aus Neukölln. Er hatte mehrfach den Fortbestand des Dritten Reichs propagiert und 300kg Sprengstoff in einem Lager. Bereits zuvor war er schon einmal aus dem Gericht geflüchtet.\n
SUMMARY:Prozess gegen "Reichsbürger"
END:VEVENT
END:VCALENDAR
