BEGIN:VCALENDAR
X-WR-TIMEZONE:Europe/Berlin
X-WR-CALNAME:rbb-Kalender
VERSION:2.0
METHOD:PUBLISH
CALSCALE:GREGORIAN
PRODID:rbb-CMS DAY
BEGIN:VEVENT
CLASS:PUBLIC
URL:http://www.rbb-online.de/content/rbb/rbb/rbbaktuell/archiv/20140404_2145/password.html
DTEND:20140404T220000
DTSTART:20140404T214500
UID:/content/rbb/rbb/rbbaktuell/archiv/20140404_2145/password
DTSTAMP:20140407T144237
DESCRIPTION:Bereits zum zweiten Mal innerhalb weniger Monate ist ein Datenklau hohen Ausmaßes aufgedeckt worden. Diesmal sind 18 Millionen E-Mail-Adressen samt Passwörtern in kriminelle Hände gelangt.       \n
SUMMARY:E-Mail Konten gehackt
END:VEVENT
END:VCALENDAR
