BEGIN:VCALENDAR
X-WR-TIMEZONE:Europe/Berlin
X-WR-CALNAME:rbb-Kalender
VERSION:2.0
METHOD:PUBLISH
CALSCALE:GREGORIAN
PRODID:rbb-CMS DAY
BEGIN:VEVENT
CLASS:PUBLIC
URL:http://www.rbb-online.de/content/rbb/rbb/rbbaktuell/archiv/20140405_2145/links.html
DTEND:20140405T222000
DTSTART:20140405T215000
UID:/content/rbb/rbb/rbbaktuell/archiv/20140405_2145/links
DTSTAMP:20140408T070949
DESCRIPTION:Die Berliner Linke hat sieben Wochen vor der Europawahl und dem Volksentscheid über das Tempelhofer Feld die Weichen gestellt. Landeschef Klaus Lederer kritisierte den rot-schwarzen Senat für seine Europa- und Regionalpolitik.\n\n\n
SUMMARY:Landesparteitag der Linken 
END:VEVENT
END:VCALENDAR
