BEGIN:VCALENDAR
X-WR-TIMEZONE:Europe/Berlin
X-WR-CALNAME:rbb-Kalender
VERSION:2.0
METHOD:PUBLISH
CALSCALE:GREGORIAN
PRODID:rbb-CMS DAY
BEGIN:VEVENT
CLASS:PUBLIC
URL:http://www.rbb-online.de/content/rbb/rbb/rbbaktuell/archiv/20140405_2145/sport.html
DTEND:20140405T222000
DTSTART:20140405T215000
UID:/content/rbb/rbb/rbbaktuell/archiv/20140405_2145/sport
DTSTAMP:20140408T071021
DESCRIPTION:+++ Fußball: Energie Cottbus - Dynamo Dresden +++ Ergebnisse und Tabelle der 2. Bundesliga +++ Basketball: Berlin – Vechta +++ Volleyball: DM Viertelfinale +++ uvm \n
SUMMARY:Sport am Samstag
END:VEVENT
END:VCALENDAR
