BEGIN:VCALENDAR
X-WR-TIMEZONE:Europe/Berlin
X-WR-CALNAME:rbb-Kalender
VERSION:2.0
METHOD:PUBLISH
CALSCALE:GREGORIAN
PRODID:rbb-CMS DAY
BEGIN:VEVENT
CLASS:PUBLIC
URL:http://www.rbb-online.de/content/rbb/rbb/rbbaktuell/archiv/20140406_2145/saisoneroeffung-hoppegarten.html
DTEND:20140406T220000
DTSTART:20140406T214500
UID:/content/rbb/rbb/rbbaktuell/archiv/20140406_2145/saisoneroeffung-hoppegarten
DTSTAMP:20140408T100945
DESCRIPTION:Mit einem Programm für große und kleine Natur- und Tierfreunde hat die Galopprennbahn Hoppegarten am Sonntag die Saison eröffnet. rbb Aktuell fasst den Tag zusammen.\n\n\n
SUMMARY:Saisonauftakt in Hoppegarten
END:VEVENT
END:VCALENDAR
