BEGIN:VCALENDAR
X-WR-TIMEZONE:Europe/Berlin
X-WR-CALNAME:rbb-Kalender
VERSION:2.0
METHOD:PUBLISH
CALSCALE:GREGORIAN
PRODID:rbb-CMS DAY
BEGIN:VEVENT
CLASS:PUBLIC
URL:http://www.rbb-online.de/content/rbb/rbb/rbbaktuell/archiv/20140407_2145/bsi-unterrichtet-ueber-datenklau.html
DTEND:20140407T221500
DTSTART:20140407T214500
UID:/content/rbb/rbb/rbbaktuell/archiv/20140407_2145/bsi-unterrichtet-ueber-datenklau
DTSTAMP:20140408T121218
DESCRIPTION:Nach dem jüngsten Diebstahl von E-Mail-Adressen und Passwörtern werden die rund drei Millionen Betroffenen in Deutschland informiert. Auch in Berlin wächst bei Internetnutzern die Sorge. rbb Aktuell hat nachgefragt, was User jetzt tun sollten.\n
SUMMARY:BSI unterrichtet über Datenklau
END:VEVENT
END:VCALENDAR
