BEGIN:VCALENDAR
X-WR-TIMEZONE:Europe/Berlin
X-WR-CALNAME:rbb-Kalender
VERSION:2.0
METHOD:PUBLISH
CALSCALE:GREGORIAN
PRODID:rbb-CMS DAY
BEGIN:VEVENT
CLASS:PUBLIC
URL:http://www.rbb-online.de/content/rbb/rbb/rbbaktuell/archiv/20140407_2145/hasenschwund-brandenburg.html
DTEND:20140407T221500
DTSTART:20140407T214500
UID:/content/rbb/rbb/rbbaktuell/archiv/20140407_2145/hasenschwund-brandenburg
DTSTAMP:20140408T121157
DESCRIPTION:Dem Feldhasen geht es schlecht in Brandenburg. Offenbar fühlen sich die Tiere auf den riesigen Äckern mit intensiver Landwirtschaft weniger wohl als auf kleineren Feldern im Westen Deutschlands. Sind die Agrarstrukturen tatsächlich der Grund für den Schwund?  \n\n\n
SUMMARY:Hasenschwund in Brandenburg
END:VEVENT
END:VCALENDAR
