BEGIN:VCALENDAR
X-WR-TIMEZONE:Europe/Berlin
X-WR-CALNAME:rbb-Kalender
VERSION:2.0
METHOD:PUBLISH
CALSCALE:GREGORIAN
PRODID:rbb-CMS DAY
BEGIN:VEVENT
CLASS:PUBLIC
URL:http://www.rbb-online.de/content/rbb/rbb/rbbaktuell/archiv/20140407_2145/streit-um-nachtflugverbot-geht-weiter.html
DTEND:20140407T221500
DTSTART:20140407T214500
UID:/content/rbb/rbb/rbbaktuell/archiv/20140407_2145/streit-um-nachtflugverbot-geht-weiter
DTSTAMP:20140408T121242
DESCRIPTION:Im Streit über ein strengeres Nachtflugverbot am neuen Flughafen BER in Schönefeld macht Brandenburg weiter Druck. Am Montag trafen sich in der Gesellschafterversammlung im Roten Rathaus die Vertreter von Berlin, Brandenburg und dem Bund. Die Abendschau mit weiteren Einzelheiten.\n
SUMMARY:Streit um Nachtflugverbot geht weiter
END:VEVENT
END:VCALENDAR
