BEGIN:VCALENDAR
X-WR-TIMEZONE:Europe/Berlin
X-WR-CALNAME:rbb-Kalender
VERSION:2.0
METHOD:PUBLISH
CALSCALE:GREGORIAN
PRODID:rbb-CMS DAY
BEGIN:VEVENT
CLASS:PUBLIC
URL:http://www.rbb-online.de/content/rbb/rbb/rbbpraxis/archiv/2011120_2015/zucker_macht_gluecklich_und_krank.html
DTEND:20140205T210000
DTSTART:20140205T201500
UID:/content/rbb/rbb/rbbpraxis/archiv/2011120_2015/zucker_macht_gluecklich_und_krank
DTSTAMP:20140406T184526
DESCRIPTION:Das erste Eis des Sommers, ein Schokoriegel als Trost für das aufgeschlagene Knie, in warme, weiche Zuckerwatte auf der Kirmes beißen: Mit süßen Dingen verbinden wir oft intensive Erinnerungen. Kein Wunder also, dass jeder Deutsche im Durchschnitt rund 35 Kilogramm Industriezucker im Jahr verzehrt. Tendenz steigend.\n\n\n
SUMMARY:Der süße Stoff: Warum Zucker uns glücklich und krank macht
END:VEVENT
END:VCALENDAR
