BEGIN:VCALENDAR
X-WR-TIMEZONE:Europe/Berlin
X-WR-CALNAME:rbb-Kalender
VERSION:2.0
METHOD:PUBLISH
CALSCALE:GREGORIAN
PRODID:rbb-CMS DAY
BEGIN:VEVENT
LOCATION:Das Video können wir Ihnen aus rechtlichen Gründen leider nicht zeigen.
CLASS:PUBLIC
URL:http://www.rbb-online.de/content/rbb/rbb/rbbpraxis/archiv/20130814_2015/Ambulante-Krebsbehandlung.html
DTEND:20130814T210000
DTSTART:20130814T201500
UID:/content/rbb/rbb/rbbpraxis/archiv/20130814_2015/Ambulante-Krebsbehandlung
DTSTAMP:20140406T183510
DESCRIPTION:Immer mehr Menschen sind wegen eines Krebsleidens nicht im Krankenhaus, sondern ambulant in Behandlung. Eine Berliner Studie hat jetzt untersucht, wie es ihnen dort geht – mit ernüchterndem Ergebnis: Die Pflege der Patienten wird häufig vernachlässigt. Zu selten kommen Pflegekräfte und nicht alle Betroffenen wissen, wann ihnen eine Haushaltshilfe oder eine Taxifahrt zum Arzt gesetzlich zusteht. (Das Video ist aus rechtlichen Gründen nicht verfügbar.)\n \n
SUMMARY:Ambulante Krebsbehandlung – wo finden Betroffene Hilfe?
END:VEVENT
END:VCALENDAR
