BEGIN:VCALENDAR
X-WR-TIMEZONE:Europe/Berlin
X-WR-CALNAME:rbb-Kalender
VERSION:2.0
METHOD:PUBLISH
CALSCALE:GREGORIAN
PRODID:rbb-CMS DAY
BEGIN:VEVENT
CLASS:PUBLIC
URL:http://www.rbb-online.de/content/rbb/rbb/rbbpraxis/archiv/20130814_2015/Urban-Fitness.html
DTEND:20130814T210000
DTSTART:20130814T201500
UID:/content/rbb/rbb/rbbpraxis/archiv/20130814_2015/Urban-Fitness
DTSTAMP:20140406T183604
DESCRIPTION:Treppenspringen vor dem Reichstagsgebäude in Berlin, Liegestütze am Geländer in der City von Potsdam oder Seilspringen vor der East-Side-Gallery. Der öffentliche Raum  bietet alles, was man für einen Fitness-Workout braucht. Trainiert wird mit dem eigenen Körpergewicht oder an Kleingeräten wie Seilen oder Therabändern. Genutzt wird dafür, was sich an Ort und Stelle findet: Treppen, Bäume, Stufen und Bänke. Man springt, hebt und balanciert. Ein Ganzkörpertraining.\n
SUMMARY:Neue Serie: Urban Fitness - Die Renaissance des Trimm-Dich-Pfades mit anderen Mitteln
END:VEVENT
END:VCALENDAR
