BEGIN:VCALENDAR
X-WR-TIMEZONE:Europe/Berlin
X-WR-CALNAME:rbb-Kalender
VERSION:2.0
METHOD:PUBLISH
CALSCALE:GREGORIAN
PRODID:rbb-CMS DAY
BEGIN:VEVENT
LOCATION:Das Gesundheitsmagazin
CLASS:PUBLIC
URL:http://www.rbb-online.de/content/rbb/rbb/rbbpraxis/archiv/20130821_2015.html
DTEND:20130821T210000
DTSTART:20130821T201500
UID:/content/rbb/rbb/rbbpraxis/archiv/20130821_2015
DTSTAMP:20140405T201707
DESCRIPTION:+++ Bauchaortenaneurysma: neue OP-Methode rettet Leben +++ Erste Hilfe bei Bienen- und Wespenstichen +++ Schmerzende Gelenke: Rheuma oder Schilddrüsenerkrankung? +++ Die Schilddrüse: Funktion und Erkrankungen +++ Schimmel - Gefahr für die Gesundheit +++ Eigenblut spenden vor der Operation +++ Trimm Dich war gestern: Trimm Fit ist heute +++\n
SUMMARY:rbb Praxis 21.08.2013 20:15
END:VEVENT
END:VCALENDAR
