BEGIN:VCALENDAR
X-WR-TIMEZONE:Europe/Berlin
X-WR-CALNAME:rbb-Kalender
VERSION:2.0
METHOD:PUBLISH
CALSCALE:GREGORIAN
PRODID:rbb-CMS DAY
BEGIN:VEVENT
CLASS:PUBLIC
URL:http://www.rbb-online.de/content/rbb/rbb/rbbpraxis/archiv/20130821_2015/bauchaortenaneurysma.html
DTEND:20130821T210000
DTSTART:20130821T201500
UID:/content/rbb/rbb/rbbpraxis/archiv/20130821_2015/bauchaortenaneurysma
DTSTAMP:20140406T185152
DESCRIPTION:Ein Aneurysma der großen Schlagader im Bauch kann eine tickende Zeitbombe sein: Platzt diese Aussackung der Aorta, geht es oft um Leben oder Tod. Doch nicht immer kann man ein Aneurysma gut behandeln, auch wenn es rechzeitig per Ultraschall entdeckt wird. Nun gibt es eine neue OP-Methode: Individuell angepasste Stents sollen die Aussackung überbrücken.\n\n\n
SUMMARY:Bauchaortenaneurysma: neue OP-Methode rettet Leben
END:VEVENT
END:VCALENDAR
