BEGIN:VCALENDAR
X-WR-TIMEZONE:Europe/Berlin
X-WR-CALNAME:rbb-Kalender
VERSION:2.0
METHOD:PUBLISH
CALSCALE:GREGORIAN
PRODID:rbb-CMS DAY
BEGIN:VEVENT
CLASS:PUBLIC
URL:http://www.rbb-online.de/content/rbb/rbb/rbbpraxis/archiv/20130821_2015/schilddruese.html
DTEND:20130821T210000
DTSTART:20130821T201500
UID:/content/rbb/rbb/rbbpraxis/archiv/20130821_2015/schilddruese
DTSTAMP:20140406T185207
DESCRIPTION:Schilddrüsenerkrankungen zählen zu den häufigsten Krankheiten in Deutschland. Eine frühzeitige Diagnose und Behandlung kann die Betroffenen vor Beschwerden und langfristigen Folgen bewahren. Viele Symptome sind nicht eindeutig einer Schilddrüsenerkrankung zuzuordnen.\n\n\n
SUMMARY:Die Schilddrüse: Funktion und Erkrankungen
END:VEVENT
END:VCALENDAR
