BEGIN:VCALENDAR
X-WR-TIMEZONE:Europe/Berlin
X-WR-CALNAME:rbb-Kalender
VERSION:2.0
METHOD:PUBLISH
CALSCALE:GREGORIAN
PRODID:rbb-CMS DAY
BEGIN:VEVENT
CLASS:PUBLIC
URL:http://www.rbb-online.de/content/rbb/rbb/rbbpraxis/archiv/20130821_2015/schimmel.html
DTEND:20130821T210000
DTSTART:20130821T201500
UID:/content/rbb/rbb/rbbpraxis/archiv/20130821_2015/schimmel
DTSTAMP:20140406T185132
DESCRIPTION:Wer in seiner Wohnung Schimmelpilze entdeckt, ist oft verunsichert: Kann ich diese Stellen selbst beseitigen oder erhöht das die Belastung für die Gesundheit? Gibt es einen Zusammenhang zwischen pelzigen Stellen auf der Tapete und Beschwerden wie Asthma, oder Müdigkeit? Die rbb Praxis fragt nach.\n\n\n
SUMMARY:Schimmel - Gefahr für die Gesundheit
END:VEVENT
END:VCALENDAR
