BEGIN:VCALENDAR
X-WR-TIMEZONE:Europe/Berlin
X-WR-CALNAME:rbb-Kalender
VERSION:2.0
METHOD:PUBLISH
CALSCALE:GREGORIAN
PRODID:rbb-CMS DAY
BEGIN:VEVENT
CLASS:PUBLIC
URL:http://www.rbb-online.de/content/rbb/rbb/rbbpraxis/archiv/20130821_2015/schmerzende-gelenke.html
DTEND:20130821T210000
DTSTART:20130821T201500
UID:/content/rbb/rbb/rbbpraxis/archiv/20130821_2015/schmerzende-gelenke
DTSTAMP:20140406T185229
DESCRIPTION:Die Gelenke schmerzen, an Schulter, Händen und Füßen schwellen sie an. Da scheint die Diagnose auf der Hand zu liegen: Rheuma. Doch dann lassen sich im Blut keine Rheuma-Marker nachweisen. Um welche Erkrankung handelt es sich dann? Auch Schilddrüsenerkrankungen können solche Symptome auslösen.\n\n\n
SUMMARY:Schmerzende Gelenke: Rheuma oder Schilddrüsenerkrankung?
END:VEVENT
END:VCALENDAR
