BEGIN:VCALENDAR
X-WR-TIMEZONE:Europe/Berlin
X-WR-CALNAME:rbb-Kalender
VERSION:2.0
METHOD:PUBLISH
CALSCALE:GREGORIAN
PRODID:rbb-CMS DAY
BEGIN:VEVENT
CLASS:PUBLIC
URL:http://www.rbb-online.de/content/rbb/rbb/rbbpraxis/archiv/20130828_2015/schulter.html
DTEND:20130828T210000
DTSTART:20130828T201500
UID:/content/rbb/rbb/rbbpraxis/archiv/20130828_2015/schulter
DTSTAMP:20140406T185656
DESCRIPTION:Arthrose? Engpasssyndrom? Schleimbeutelentzündung? Es gibt viele Ursachen für eine schmerzende Schulter. Das Schultergelenk ist das beweglichste Gelenk des menschlichen Körpers, der Preis dafür ist ein "Konstruktionsproblem": Auf die flache Gelenkpfanne wirken sehr starke Kräfte, und so ist das Gelenk besonders für Arthrose anfällig.\n\n\n
SUMMARY:Schulterschmerzen
END:VEVENT
END:VCALENDAR
