BEGIN:VCALENDAR
X-WR-TIMEZONE:Europe/Berlin
X-WR-CALNAME:rbb-Kalender
VERSION:2.0
METHOD:PUBLISH
CALSCALE:GREGORIAN
PRODID:rbb-CMS DAY
BEGIN:VEVENT
CLASS:PUBLIC
URL:http://www.rbb-online.de/content/rbb/rbb/rbbpraxis/archiv/20130828_2015/sommergrippe.html
DTEND:20130828T210000
DTSTART:20130828T201500
UID:/content/rbb/rbb/rbbpraxis/archiv/20130828_2015/sommergrippe
DTSTAMP:20140406T185735
DESCRIPTION:Schnupfen, Husten und Heiserkeit im Spätsommer? Für viele klingt das paradox, schließlich ist es noch warm. Doch aufgrund der klimatischen Bedingungen ist die Erkältung im Spätsommer ein häufiges Phänomen.\n\n\n
SUMMARY:Erkältung im Spätsommer
END:VEVENT
END:VCALENDAR
