BEGIN:VCALENDAR
X-WR-TIMEZONE:Europe/Berlin
X-WR-CALNAME:rbb-Kalender
VERSION:2.0
METHOD:PUBLISH
CALSCALE:GREGORIAN
PRODID:rbb-CMS DAY
BEGIN:VEVENT
CLASS:PUBLIC
URL:http://www.rbb-online.de/content/rbb/rbb/rbbpraxis/archiv/20130828_2015/trimm-dich-pfad.html
DTEND:20130828T210000
DTSTART:20130828T201500
UID:/content/rbb/rbb/rbbpraxis/archiv/20130828_2015/trimm-dich-pfad
DTSTAMP:20140406T185612
DESCRIPTION:Vor 40 Jahren gab es in der Bundesrepublik Deutschland einen wahren Fitness-Boom. Auf sogenannten Trimm-Dich-Pfaden machte man sich an verschiedenen Stationen mit Klimmen und Beugen, mit Hängen und Stemmen fit. Später kamen die Trimm-dich-Pfade aus der Mode. Jetzt wurden in Berlin und Brandenburg einige alte Pfade wiederbelebt.\n\n\n
SUMMARY:Trimm Dich - draußen und umsonst
END:VEVENT
END:VCALENDAR
