BEGIN:VCALENDAR
X-WR-TIMEZONE:Europe/Berlin
X-WR-CALNAME:rbb-Kalender
VERSION:2.0
METHOD:PUBLISH
CALSCALE:GREGORIAN
PRODID:rbb-CMS DAY
BEGIN:VEVENT
LOCATION:Das Gesundheitsmagazin
CLASS:PUBLIC
URL:http://www.rbb-online.de/content/rbb/rbb/rbbpraxis/archiv/20130918_2015.html
DTEND:20130918T210000
DTSTART:20130918T201500
UID:/content/rbb/rbb/rbbpraxis/archiv/20130918_2015
DTSTAMP:20140405T201347
DESCRIPTION:+++ Leberschäden durch Schmerzmittel +++ Allergien im Herbst +++ Herzchirurgie auf Weltniveau +++ Entzündlicher Rückenschmerz - Therapien auf dem Prüfstand +++ \n\n\n
SUMMARY:rbb Praxis 18.09.2013 20:15
END:VEVENT
END:VCALENDAR
