BEGIN:VCALENDAR
X-WR-TIMEZONE:Europe/Berlin
X-WR-CALNAME:rbb-Kalender
VERSION:2.0
METHOD:PUBLISH
CALSCALE:GREGORIAN
PRODID:rbb-CMS DAY
BEGIN:VEVENT
CLASS:PUBLIC
URL:http://www.rbb-online.de/content/rbb/rbb/rbbpraxis/archiv/20130918_2015/bechterew.html
DTEND:20130918T210000
DTSTART:20130918T201500
UID:/content/rbb/rbb/rbbpraxis/archiv/20130918_2015/bechterew
DTSTAMP:20140406T184205
DESCRIPTION:Muskelverspannungen, Arthrose und Bandscheibenvorfälle – diese Ursachen von Rückenschmerzen kennt man. Wenn die Beschwerden vor allem morgens auftreten und sich bei Bewegung bessern, könnte auch eine Entzündung die Ursache für die Schmerzen sein. Ist die Wirbelsäule dabei versteift, nennt man diese spezielle Entzündung Morbus Bechterew. Die rbb Praxis informiert über Diagnose und Therapie entzündlicher Rückenerkrankungen, die etwa fünf Prozent der Rückenschmerzen verursachen.\n\n\n
SUMMARY:Entzündlicher Rückenschmerz – Therapien auf dem Prüfstand
END:VEVENT
END:VCALENDAR
