BEGIN:VCALENDAR
X-WR-TIMEZONE:Europe/Berlin
X-WR-CALNAME:rbb-Kalender
VERSION:2.0
METHOD:PUBLISH
CALSCALE:GREGORIAN
PRODID:rbb-CMS DAY
BEGIN:VEVENT
CLASS:PUBLIC
URL:http://www.rbb-online.de/content/rbb/rbb/rbbpraxis/archiv/20130918_2015/hetzer.html
DTEND:20130918T210000
DTSTART:20130918T201500
UID:/content/rbb/rbb/rbbpraxis/archiv/20130918_2015/hetzer
DTSTAMP:20140406T184352
DESCRIPTION:Die Entwicklung von Kunstherzen, Herztransplantationen, schwierigste Eingriffe – viele Entwicklungen der letzten Jahrzehnte sind eng verknüpft mit dem Deutschen Herzzentrum Berlin und seinem Chefarzt Prof. Roland Hetzer. Die rbb Praxis nimmt Einblick in sein spannendes Arbeitsfeld.\n\n\n
SUMMARY:Herzchirurgie auf Weltniveau
END:VEVENT
END:VCALENDAR
