BEGIN:VCALENDAR
X-WR-TIMEZONE:Europe/Berlin
X-WR-CALNAME:rbb-Kalender
VERSION:2.0
METHOD:PUBLISH
CALSCALE:GREGORIAN
PRODID:rbb-CMS DAY
BEGIN:VEVENT
CLASS:PUBLIC
URL:http://www.rbb-online.de/content/rbb/rbb/rbbpraxis/archiv/20131009_2015/traumaambulanz.html
DTEND:20131009T210000
DTSTART:20131009T201500
UID:/content/rbb/rbb/rbbpraxis/archiv/20131009_2015/traumaambulanz
DTSTAMP:20140406T184422
DESCRIPTION:Wenn jemand körperlicher oder psychischer Gewalt ausgesetzt war, sind Symptome wie Ängste, Unruhe oder Albträume Zeichen einer normalen Stressreaktion. Bei manchen Opfern halten diese Symptome länger an und es kann zu Folgeerkrankungen kommen. In der Psychiatrischen Universitätsklinik der Charité im St. Hedwig-Krankenhaus finden Betroffene Hilfe.\n\n\n
SUMMARY:Traumaambulanz - schnelle Hilfe für verletzte Seelen
END:VEVENT
END:VCALENDAR
