BEGIN:VCALENDAR
X-WR-TIMEZONE:Europe/Berlin
X-WR-CALNAME:rbb-Kalender
VERSION:2.0
METHOD:PUBLISH
CALSCALE:GREGORIAN
PRODID:rbb-CMS DAY
BEGIN:VEVENT
CLASS:PUBLIC
URL:http://www.rbb-online.de/content/rbb/rbb/rbbpraxis/archiv/20131016_2015/erkaeltungsmythen.html
DTEND:20131016T210000
DTSTART:20131016T201500
UID:/content/rbb/rbb/rbbpraxis/archiv/20131016_2015/erkaeltungsmythen
DTSTAMP:20140406T183118
DESCRIPTION:Herbstzeit ist Erkältungszeit. Die harmlosen grippalen Infekte sind weit verbreitet: Durchschnittlich erkranken Erwachsene drei Mal pro Jahr, Kleinkinder haben bis zu zwölf Infekte und ein Kind im Vorschulalter mindestens sechs pro Jahr. Wie es zu den ständig wiederkehrenden Infekten kommt, scheint in der Bevölkerung jedoch weniger bekannt.\n\n\n
SUMMARY:Erkältungsmythen
END:VEVENT
END:VCALENDAR
