BEGIN:VCALENDAR
X-WR-TIMEZONE:Europe/Berlin
X-WR-CALNAME:rbb-Kalender
VERSION:2.0
METHOD:PUBLISH
CALSCALE:GREGORIAN
PRODID:rbb-CMS DAY
BEGIN:VEVENT
CLASS:PUBLIC
URL:http://www.rbb-online.de/content/rbb/rbb/rbbpraxis/archiv/20131016_2015/hilfsmittel-fuer-blinde.html
DTEND:20131016T210000
DTSTART:20131016T201500
UID:/content/rbb/rbb/rbbpraxis/archiv/20131016_2015/hilfsmittel-fuer-blinde
DTSTAMP:20140406T183244
DESCRIPTION:Der herkömmliche Blindenstock wird heute zunehmend ergänzt oder ersetzt durch hochmoderne Technik: Laser-Scanner, Farberkennungsgeräte, oder spezielle GPS-Handys zur Orientierung sind neu entwickelte Hilfsmittel, die es blinden Menschen immer besser ermöglichen, gleichberechtigt am öffentlichen Leben teilzunehmen.\n\n\n
SUMMARY:High-Tech für Sehbehinderte
END:VEVENT
END:VCALENDAR
