BEGIN:VCALENDAR
X-WR-TIMEZONE:Europe/Berlin
X-WR-CALNAME:rbb-Kalender
VERSION:2.0
METHOD:PUBLISH
CALSCALE:GREGORIAN
PRODID:rbb-CMS DAY
BEGIN:VEVENT
CLASS:PUBLIC
URL:http://www.rbb-online.de/content/rbb/rbb/rbbpraxis/archiv/20131016_2015/trainingsgeraete-test.html
DTEND:20131016T210000
DTSTART:20131016T201500
UID:/content/rbb/rbb/rbbpraxis/archiv/20131016_2015/trainingsgeraete-test
DTSTAMP:20140406T183148
DESCRIPTION:Vier von fünf Deutschen haben, bzw. hatten schon mal Probleme mit ihrem Rücken. Für die Millionen von Betroffenen gibt es eine breite Palette von Trainingsgeräten für Zuhause. Sie alle versprechen einen gesunden Rücken. Die rbb Praxis hat verschiedene Geräte mit unterschiedlichen Wirkprinzipien getestet.\n\n\n
SUMMARY:Trainingsgeräte gegen Rückenschmerzen im Test
END:VEVENT
END:VCALENDAR
