BEGIN:VCALENDAR
X-WR-TIMEZONE:Europe/Berlin
X-WR-CALNAME:rbb-Kalender
VERSION:2.0
METHOD:PUBLISH
CALSCALE:GREGORIAN
PRODID:rbb-CMS DAY
BEGIN:VEVENT
LOCATION:Das Gesundheitsmagazin
CLASS:PUBLIC
URL:http://www.rbb-online.de/content/rbb/rbb/rbbpraxis/archiv/20131023_2015.html
DTEND:20131023T210000
DTSTART:20131023T201500
UID:/content/rbb/rbb/rbbpraxis/archiv/20131023_2015
DTSTAMP:20140405T201814
DESCRIPTION:+++ Diabetesmedikamente erneut unter Verdacht +++ Live-Diagnose: Steckt hinter chronischen Knochenschmerzen Osteoporose? +++ Herbstlaub +++ Blitze im Bein - wenn der Ischias quält +++\n\n\n\n\n
SUMMARY:rbb Praxis 23.10.2013 20:15
END:VEVENT
END:VCALENDAR
