BEGIN:VCALENDAR
X-WR-TIMEZONE:Europe/Berlin
X-WR-CALNAME:rbb-Kalender
VERSION:2.0
METHOD:PUBLISH
CALSCALE:GREGORIAN
PRODID:rbb-CMS DAY
BEGIN:VEVENT
CLASS:PUBLIC
URL:http://www.rbb-online.de/content/rbb/rbb/rbbpraxis/archiv/20131023_2015/laub_rutschgefahr_im_herbst.html
DTEND:20131023T210000
DTSTART:20131023T201500
UID:/content/rbb/rbb/rbbpraxis/archiv/20131023_2015/laub_rutschgefahr_im_herbst
DTSTAMP:20140406T185531
DESCRIPTION:Wenn die Blätter sich färben und in großer Zahl von den Bäumen fallen, ist es wieder soweit: Wald- und Gehwege werden von einem wunderbaren Farbenteppich überzogen. Wer mit Stiefeln durch das Blattwerk stapft, kann sich an dem geheimnisvollem Rascheln erfreuen. Doch leider endet das nicht selten im Krankenhaus. Die rbb Praxis klärt auf.\n\n\n
SUMMARY:Herbstzeit – Verletzungszeit
END:VEVENT
END:VCALENDAR
